BEGIN:VCALENDAR
VERSION:2.0
PRODID:-//ChamberMaster//Event Calendar 2.0//EN
METHOD:PUBLISH
X-PUBLISHED-TTL:P1H
REFRESH-INTERVAL:P1H
CALSCALE:GREGORIAN
BEGIN:VTIMEZONE
TZID:America/Chicago
BEGIN:DAYLIGHT
RRULE:FREQ=YEARLY;BYMONTH=3;BYDAY=2SU
DTSTART:20070101T000000
TZOFFSETFROM:-0600
TZOFFSETTO:-0500
TZNAME:Central Daylight Time
END:DAYLIGHT
BEGIN:STANDARD
RRULE:FREQ=YEARLY;BYMONTH=11;BYDAY=1SU
DTSTART:20070101T000000
TZOFFSETFROM:-0500
TZOFFSETTO:-0600
TZNAME:Central Standard Time
END:STANDARD
END:VTIMEZONE
BEGIN:VEVENT
DTSTART;TZID=America/Chicago:20260506T160000
DTEND;TZID=America/Chicago:20260506T190000
X-MICROSOFT-CDO-ALLDAYEVENT:FALSE
SUMMARY:SPUR Mesquite presents: Entrepreneur Launch Lab
DESCRIPTION:SPUR Mesquite presents: Entrepreneur Launch LabWhen:\nWednesday\, May 6\, 2026 | 4:00 p.m. to 7:00 p.m. Where:Dallas College\, Eastfield Campus Building B3737 Motley Dr. Mesquite\, Texas 75150About the Event:Celebrating Small Business Week\, SPUR Mesquite's Entrepreneur Launch Lab is designed for aspiring entrepreneurs and active small business owners ready to take their next step. This experience connects attendees with the tools\, resources\, and real-world insights needed to launch\, manage\, and grow a successful business.From expert-led panels to one-on-one coaching sessions\, this event brings together local partners and industry professionals to share practical\, actionable guidance across key areas of business. Attendees will also have the opportunity to network\, explore resource tables\, and gain direct access to organizations that support business success at every stage.What to Expect:Resource Fair featuring local business support organizationsExpert Panels on key small business topics1:1 Coaching Sessions with experts in marketing\, legal\, finance\, and moreNetworking opportunities with entrepreneurs and community partnersComplimentary professional headshotsBrief Agenda:4:00 - 4:30 p.m.   Check-in\, Networking\, and Refreshments \n4:30 - 4:35 p.m.   Welcome & Opening Remarks by City of Mesquite Mayor Daniel Alem n\, Jr. \n4:35 - 6:00 p.m.   Panels and Light Bites\n6:00 - 7:00 p.m.   Resource Fair and 1:1 Coaching Sessions (limited space\, sessions reserved during check-in) Registration:Registration is $15 and includes access to all panels\, resource partners\, a complimentary messenger bag\, light bites\, giveaways\, and professional headshots.Register Here
X-ALT-DESC;FMTTYPE=text/html:<!DOCTYPE html><html><head><title></title></head><body aria-disabled="false"><div style="border: 0px\; font-style: normal\; font-variant-ligatures: normal\; font-variant-caps: normal\; font-variant-numeric: inherit\; font-variant-east-asian: inherit\; font-variant-alternates: inherit\; font-variant-position: inherit\; font-variant-emoji: inherit\; font-weight: 400\; font-stretch: inherit\; font-size: 12pt\; line-height: inherit\; font-family: Calibri\, Helvetica\, sans-serif\, serif\, EmojiFont\; font-optical-sizing: inherit\; font-size-adjust: inherit\; font-kerning: inherit\; font-feature-settings: inherit\; font-variation-settings: inherit\; font-language-override: inherit\; margin: 1em 0px\; padding: 0px\; vertical-align: baseline\; color: black\; letter-spacing: normal\; orphans: 2\; text-indent: 0px\; text-transform: none\; widows: 2\; word-spacing: 0px\; -webkit-text-stroke-width: 0px\; white-space: normal\; text-decoration-thickness: initial\; text-decoration-style: initial\; text-decoration-color: initial\; text-align: left\; background-color: white\;"><b data-olk-copy-source="MessageBody">SPUR Mesquite presents: Entrepreneur Launch Lab</b></div><div style="border: 0px\; font-style: normal\; font-variant-ligatures: normal\; font-variant-caps: normal\; font-variant-numeric: inherit\; font-variant-east-asian: inherit\; font-variant-alternates: inherit\; font-variant-position: inherit\; font-variant-emoji: inherit\; font-weight: 400\; font-stretch: inherit\; font-size: 12pt\; line-height: inherit\; font-family: Calibri\, Helvetica\, sans-serif\, serif\, EmojiFont\; font-optical-sizing: inherit\; font-size-adjust: inherit\; font-kerning: inherit\; font-feature-settings: inherit\; font-variation-settings: inherit\; font-language-override: inherit\; margin: 1em 0px\; padding: 0px\; vertical-align: baseline\; color: black\; letter-spacing: normal\; orphans: 2\; text-indent: 0px\; text-transform: none\; widows: 2\; word-spacing: 0px\; -webkit-text-stroke-width: 0px\; white-space: normal\; text-decoration-thickness: initial\; text-decoration-style: initial\; text-decoration-color: initial\; text-align: left\; background-color: white\;"><strong fr-original-style="" style="font-weight: 700\;">When:</strong><br>Wednesday\, May 6\, 2026 | 4:00 p.m. to 7:00 p.m.&nbsp\;</div><div style="border: 0px\; font-style: normal\; font-variant-ligatures: normal\; font-variant-caps: normal\; font-variant-numeric: inherit\; font-variant-east-asian: inherit\; font-variant-alternates: inherit\; font-variant-position: inherit\; font-variant-emoji: inherit\; font-weight: 400\; font-stretch: inherit\; font-size: 12pt\; line-height: inherit\; font-family: Calibri\, Helvetica\, sans-serif\, serif\, EmojiFont\; font-optical-sizing: inherit\; font-size-adjust: inherit\; font-kerning: inherit\; font-feature-settings: inherit\; font-variation-settings: inherit\; font-language-override: inherit\; margin: 1em 0px\; padding: 0px\; vertical-align: baseline\; color: black\; letter-spacing: normal\; orphans: 2\; text-indent: 0px\; text-transform: none\; widows: 2\; word-spacing: 0px\; -webkit-text-stroke-width: 0px\; white-space: normal\; text-decoration-thickness: initial\; text-decoration-style: initial\; text-decoration-color: initial\; text-align: left\; background-color: white\;"><strong fr-original-style="" style="font-weight: 700\;">Where:</strong></div><p style="font-style: normal\; font-variant-ligatures: normal\; font-variant-caps: normal\; font-weight: 400\; letter-spacing: normal\; orphans: 2\; text-indent: 0px\; text-transform: none\; widows: 2\; word-spacing: 0px\; -webkit-text-stroke-width: 0px\; white-space: normal\; text-decoration-thickness: initial\; text-decoration-style: initial\; text-decoration-color: initial\; color: black\; font-size: 12pt\; font-family: Calibri\, Helvetica\, sans-serif\; text-align: left\; background-color: white\; margin: 0px\;"><strong fr-original-style="" style="font-weight: 700\;">Dallas College\, Eastfield Campus&nbsp\;</strong></p><p style="font-style: normal\; font-variant-ligatures: normal\; font-variant-caps: normal\; font-weight: 400\; letter-spacing: normal\; orphans: 2\; text-indent: 0px\; text-transform: none\; widows: 2\; word-spacing: 0px\; -webkit-text-stroke-width: 0px\; white-space: normal\; text-decoration-thickness: initial\; text-decoration-style: initial\; text-decoration-color: initial\; color: black\; font-size: 12pt\; font-family: Calibri\, Helvetica\, sans-serif\; text-align: left\; background-color: white\; margin: 0px\;"><strong fr-original-style="" style="font-weight: 700\;">Building B</strong></p><p style="font-style: normal\; font-variant-ligatures: normal\; font-variant-caps: normal\; font-weight: 400\; letter-spacing: normal\; orphans: 2\; text-indent: 0px\; text-transform: none\; widows: 2\; word-spacing: 0px\; -webkit-text-stroke-width: 0px\; white-space: normal\; text-decoration-thickness: initial\; text-decoration-style: initial\; text-decoration-color: initial\; color: black\; font-size: 12pt\; font-family: Calibri\, Helvetica\, sans-serif\; text-align: left\; background-color: white\; margin: 0px\;"><strong fr-original-style="" style="font-weight: 700\;">3737 Motley Dr. Mesquite\, Texas 75150</strong></p><div style="border: 0px\; font-style: normal\; font-variant-ligatures: normal\; font-variant-caps: normal\; font-variant-numeric: inherit\; font-variant-east-asian: inherit\; font-variant-alternates: inherit\; font-variant-position: inherit\; font-variant-emoji: inherit\; font-weight: 400\; font-stretch: inherit\; font-size: 12pt\; line-height: inherit\; font-family: Calibri\, Helvetica\, sans-serif\, serif\, EmojiFont\; font-optical-sizing: inherit\; font-size-adjust: inherit\; font-kerning: inherit\; font-feature-settings: inherit\; font-variation-settings: inherit\; font-language-override: inherit\; margin: 1em 0px\; padding: 0px\; vertical-align: baseline\; color: black\; letter-spacing: normal\; orphans: 2\; text-indent: 0px\; text-transform: none\; widows: 2\; word-spacing: 0px\; -webkit-text-stroke-width: 0px\; white-space: normal\; text-decoration-thickness: initial\; text-decoration-style: initial\; text-decoration-color: initial\; text-align: left\; background-color: white\;"><strong fr-original-style="" style="font-weight: 700\;">About the Event:</strong></div><div style="border: 0px\; font-style: normal\; font-variant-ligatures: normal\; font-variant-caps: normal\; font-variant-numeric: inherit\; font-variant-east-asian: inherit\; font-variant-alternates: inherit\; font-variant-position: inherit\; font-variant-emoji: inherit\; font-weight: 400\; font-stretch: inherit\; font-size: 12pt\; line-height: inherit\; font-family: Calibri\, Helvetica\, sans-serif\, serif\, EmojiFont\; font-optical-sizing: inherit\; font-size-adjust: inherit\; font-kerning: inherit\; font-feature-settings: inherit\; font-variation-settings: inherit\; font-language-override: inherit\; margin: 1em 0px\; padding: 0px\; vertical-align: baseline\; color: black\; letter-spacing: normal\; orphans: 2\; text-indent: 0px\; text-transform: none\; widows: 2\; word-spacing: 0px\; -webkit-text-stroke-width: 0px\; white-space: normal\; text-decoration-thickness: initial\; text-decoration-style: initial\; text-decoration-color: initial\; text-align: left\; background-color: white\;">Celebrating Small Business Week\, SPUR Mesquite&#39\;s Entrepreneur Launch Lab is designed for aspiring entrepreneurs and active small business owners ready to take their next step. This experience connects attendees with the tools\, resources\, and real-world insights needed to launch\, manage\, and grow a successful business.</div><div style="border: 0px\; font-style: normal\; font-variant-ligatures: normal\; font-variant-caps: normal\; font-variant-numeric: inherit\; font-variant-east-asian: inherit\; font-variant-alternates: inherit\; font-variant-position: inherit\; font-variant-emoji: inherit\; font-weight: 400\; font-stretch: inherit\; font-size: 12pt\; line-height: inherit\; font-family: Calibri\, Helvetica\, sans-serif\, serif\, EmojiFont\; font-optical-sizing: inherit\; font-size-adjust: inherit\; font-kerning: inherit\; font-feature-settings: inherit\; font-variation-settings: inherit\; font-language-override: inherit\; margin: 1em 0px\; padding: 0px\; vertical-align: baseline\; color: black\; letter-spacing: normal\; orphans: 2\; text-indent: 0px\; text-transform: none\; widows: 2\; word-spacing: 0px\; -webkit-text-stroke-width: 0px\; white-space: normal\; text-decoration-thickness: initial\; text-decoration-style: initial\; text-decoration-color: initial\; text-align: left\; background-color: white\;">From expert-led panels to one-on-one coaching sessions\, this event brings together local partners and industry professionals to share practical\, actionable guidance across key areas of business. Attendees will also have the opportunity to network\, explore resource tables\, and gain direct access to organizations that support business success at every stage.</div><div style="border: 0px\; font-style: normal\; font-variant-ligatures: normal\; font-variant-caps: normal\; font-variant-numeric: inherit\; font-variant-east-asian: inherit\; font-variant-alternates: inherit\; font-variant-position: inherit\; font-variant-emoji: inherit\; font-weight: 400\; font-stretch: inherit\; font-size: 12pt\; line-height: inherit\; font-family: Calibri\, Helvetica\, sans-serif\, serif\, EmojiFont\; font-optical-sizing: inherit\; font-size-adjust: inherit\; font-kerning: inherit\; font-feature-settings: inherit\; font-variation-settings: inherit\; font-language-override: inherit\; margin: 0px\; padding: 0px\; vertical-align: baseline\; color: black\; letter-spacing: normal\; orphans: 2\; text-indent: 0px\; text-transform: none\; widows: 2\; word-spacing: 0px\; -webkit-text-stroke-width: 0px\; white-space: normal\; text-decoration-thickness: initial\; text-decoration-style: initial\; text-decoration-color: initial\; text-align: left\; background-color: white\;"><strong fr-original-style="" style="font-weight: 700\;">What to Expect:</strong></div><ul data-end="1170" data-start="915" fr-original-style='color: rgb(36\, 36\, 36)\; font-family: "Segoe UI"\, "Segoe UI Web (West European)"\, -apple-system\, BlinkMacSystemFont\, Roboto\, "Helvetica Neue"\, sans-serif\; font-size: 15px\; font-style: normal\; font-variant-ligatures: normal\; font-variant-caps: normal\; font-weight: 400\; letter-spacing: normal\; orphans: 2\; text-indent: 0px\; text-transform: none\; widows: 2\; word-spacing: 0px\; -webkit-text-stroke-width: 0px\; white-space: normal\; text-decoration-thickness: initial\; text-decoration-style: initial\; text-decoration-color: initial\; text-align: left\; background-color: white\;' style='color: rgb(36\, 36\, 36)\; font-family: "Segoe UI"\, "Segoe UI Web (West European)"\, -apple-system\, BlinkMacSystemFont\, Roboto\, "Helvetica Neue"\, sans-serif\; font-size: 15px\; font-style: normal\; font-variant-ligatures: normal\; font-variant-caps: normal\; font-weight: 400\; letter-spacing: normal\; orphans: 2\; text-indent: 0px\; text-transform: none\; widows: 2\; word-spacing: 0px\; -webkit-text-stroke-width: 0px\; white-space: normal\; text-decoration-thickness: initial\; text-decoration-style: initial\; text-decoration-color: initial\; text-align: left\; background-color: white\; list-style-position: inside\;'><li style="color: black\; font-size: 12pt\; font-family: Calibri\, Helvetica\, sans-serif\;">Resource Fair featuring local business support organizations</li><li style="color: black\; font-size: 12pt\; font-family: Calibri\, Helvetica\, sans-serif\;">Expert Panels on key small business topics</li><li style="color: black\; font-size: 12pt\; font-family: Calibri\, Helvetica\, sans-serif\;">1:1 Coaching Sessions with experts in marketing\, legal\, finance\, and more</li><li style="color: black\; font-size: 12pt\; font-family: Calibri\, Helvetica\, sans-serif\;">Networking opportunities with entrepreneurs and community partners</li><li style="color: black\; font-size: 12pt\; font-family: Calibri\, Helvetica\, sans-serif\;">Complimentary professional headshots</li></ul><div style="border: 0px\; font-style: normal\; font-variant-ligatures: normal\; font-variant-caps: normal\; font-variant-numeric: inherit\; font-variant-east-asian: inherit\; font-variant-alternates: inherit\; font-variant-position: inherit\; font-variant-emoji: inherit\; font-weight: 400\; font-stretch: inherit\; font-size: 12pt\; line-height: inherit\; font-family: Calibri\, Helvetica\, sans-serif\, serif\, EmojiFont\; font-optical-sizing: inherit\; font-size-adjust: inherit\; font-kerning: inherit\; font-feature-settings: inherit\; font-variation-settings: inherit\; font-language-override: inherit\; margin: 0px\; padding: 0px\; vertical-align: baseline\; color: black\; letter-spacing: normal\; orphans: 2\; text-indent: 0px\; text-transform: none\; widows: 2\; word-spacing: 0px\; -webkit-text-stroke-width: 0px\; white-space: normal\; text-decoration-thickness: initial\; text-decoration-style: initial\; text-decoration-color: initial\; text-align: left\; background-color: white\;"><strong fr-original-style="" style="font-weight: 700\;">Brief Agenda:</strong></div><div style="border: 0px\; font-style: normal\; font-variant-ligatures: normal\; font-variant-caps: normal\; font-variant-numeric: inherit\; font-variant-east-asian: inherit\; font-variant-alternates: inherit\; font-variant-position: inherit\; font-variant-emoji: inherit\; font-weight: 400\; font-stretch: inherit\; font-size: 12pt\; line-height: inherit\; font-family: Calibri\, Helvetica\, sans-serif\, serif\, EmojiFont\; font-optical-sizing: inherit\; font-size-adjust: inherit\; font-kerning: inherit\; font-feature-settings: inherit\; font-variation-settings: inherit\; font-language-override: inherit\; margin: 1em 0px\; padding: 0px\; vertical-align: baseline\; color: rgb(36\, 36\, 36)\; letter-spacing: normal\; orphans: 2\; text-indent: 0px\; text-transform: none\; widows: 2\; word-spacing: 0px\; -webkit-text-stroke-width: 0px\; white-space: normal\; text-decoration-thickness: initial\; text-decoration-style: initial\; text-decoration-color: initial\; text-align: left\; background-color: white\;"><span style="border: 0px\; font: inherit\; margin: 0px\; padding: 0px\; vertical-align: baseline\; color: black\;">4:00 - 4:30 p.m. &ndash\; Check-in\, Networking\, and Refreshments <br>4:30 - 4:35 p.m. &ndash\; Welcome &amp\; Opening Remarks by City of Mesquite Mayor Daniel&nbsp\;Alem&aacute\;n\,&nbsp\;Jr. <br>4:35 - 6:00 p.m. &ndash\;&nbsp\;Panels and Light Bites<br>6:00 - 7:00 p.m. &ndash\; Resource Fair and 1:1 Coaching Sessions (limited space\, sessions reserved during check-in)&nbsp\;</span></div><div style="border: 0px\; font-style: normal\; font-variant-ligatures: normal\; font-variant-caps: normal\; font-variant-numeric: inherit\; font-variant-east-asian: inherit\; font-variant-alternates: inherit\; font-variant-position: inherit\; font-variant-emoji: inherit\; font-weight: 400\; font-stretch: inherit\; font-size: 12pt\; line-height: inherit\; font-family: Calibri\, Helvetica\, sans-serif\, serif\, EmojiFont\; font-optical-sizing: inherit\; font-size-adjust: inherit\; font-kerning: inherit\; font-feature-settings: inherit\; font-variation-settings: inherit\; font-language-override: inherit\; margin: 0px\; padding: 0px\; vertical-align: baseline\; color: black\; letter-spacing: normal\; orphans: 2\; text-indent: 0px\; text-transform: none\; widows: 2\; word-spacing: 0px\; -webkit-text-stroke-width: 0px\; white-space: normal\; text-decoration-thickness: initial\; text-decoration-style: initial\; text-decoration-color: initial\; text-align: left\; background-color: white\;"><strong fr-original-style="" style="font-weight: 700\;">Registration:</strong></div><div style="border: 0px\; font-style: normal\; font-variant-ligatures: normal\; font-variant-caps: normal\; font-variant-numeric: inherit\; font-variant-east-asian: inherit\; font-variant-alternates: inherit\; font-variant-position: inherit\; font-variant-emoji: inherit\; font-weight: 400\; font-stretch: inherit\; font-size: 12pt\; line-height: inherit\; font-family: Calibri\, Helvetica\, sans-serif\, serif\, EmojiFont\; font-optical-sizing: inherit\; font-size-adjust: inherit\; font-kerning: inherit\; font-feature-settings: inherit\; font-variation-settings: inherit\; font-language-override: inherit\; margin: 1em 0px\; padding: 0px\; vertical-align: baseline\; color: black\; letter-spacing: normal\; orphans: 2\; text-indent: 0px\; text-transform: none\; widows: 2\; word-spacing: 0px\; -webkit-text-stroke-width: 0px\; white-space: normal\; text-decoration-thickness: initial\; text-decoration-style: initial\; text-decoration-color: initial\; text-align: left\; background-color: white\;">Registration is <strong fr-original-style="" style="font-weight: 700\;">$15</strong> and includes access to all panels\, resource partners\, <strong fr-original-style="" style="font-weight: 700\;">a complimentary messenger bag\, light bites\, giveaways\, and professional headshots.</strong></div><p><span style="color: rgb(209\, 72\, 65)\;"><span style="font-size: 24px\;"><a fr-original-style="" href="https://mesquitechamberofcommercetx.growthzoneapp.com/ap/Events/Register/qWFRnNKtkCQCe" rel="noopener noreferrer" style="user-select: auto\; color: inherit\;" target="_blank"><strong fr-original-style="" style="font-weight: 700\;">Register Here</strong></a></span></span></p></body></html>
LOCATION:3737 Motley Dr Mesquite TX 75150
UID:e.3407.1438826
SEQUENCE:3
DTSTAMP:20260421T200131Z
URL:https://business.mesquitechamber.com/chamber-events/Details/spur-mesquite-presents-entrepreneur-launch-lab-1703025?sourceTypeId=Hub
END:VEVENT
END:VCALENDAR
